BEGIN:VCALENDAR
VERSION:2.0
PRODID:-//Zentrum Wasserstoff.Bayern (H2.B) - ECPv6.15.20//NONSGML v1.0//EN
CALSCALE:GREGORIAN
METHOD:PUBLISH
X-ORIGINAL-URL:https://h2.bayern
X-WR-CALDESC:Veranstaltungen für Zentrum Wasserstoff.Bayern (H2.B)
REFRESH-INTERVAL;VALUE=DURATION:PT1H
X-Robots-Tag:noindex
X-PUBLISHED-TTL:PT1H
BEGIN:VTIMEZONE
TZID:Europe/Berlin
BEGIN:DAYLIGHT
TZOFFSETFROM:+0100
TZOFFSETTO:+0200
TZNAME:CEST
DTSTART:20240331T010000
END:DAYLIGHT
BEGIN:STANDARD
TZOFFSETFROM:+0200
TZOFFSETTO:+0100
TZNAME:CET
DTSTART:20241027T010000
END:STANDARD
BEGIN:DAYLIGHT
TZOFFSETFROM:+0100
TZOFFSETTO:+0200
TZNAME:CEST
DTSTART:20250330T010000
END:DAYLIGHT
BEGIN:STANDARD
TZOFFSETFROM:+0200
TZOFFSETTO:+0100
TZNAME:CET
DTSTART:20251026T010000
END:STANDARD
BEGIN:DAYLIGHT
TZOFFSETFROM:+0100
TZOFFSETTO:+0200
TZNAME:CEST
DTSTART:20260329T010000
END:DAYLIGHT
BEGIN:STANDARD
TZOFFSETFROM:+0200
TZOFFSETTO:+0100
TZNAME:CET
DTSTART:20261025T010000
END:STANDARD
END:VTIMEZONE
BEGIN:VEVENT
DTSTART;TZID=Europe/Berlin:20250408T140000
DTEND;TZID=Europe/Berlin:20250408T160000
DTSTAMP:20260423T161101
CREATED:20250305T082730Z
LAST-MODIFIED:20250410T142415Z
UID:10000064-1744120800-1744128000@h2.bayern
SUMMARY:H2.INSIGHTS #9 H2-Kosten & Geschäftsmodelle
DESCRIPTION:Vollversammlung des Wasserstoffbündnis Bayern 2026 – Bayerische H2-Regionen\nIn dieser Ausgabe unseres Online-Formates H2.INSIGHTS geht es um die Kosten und Geschäftsmodelle für die Wasserstofferzeugung und -anwendung und die damit verbundenen Systemkosten. Wir beleuchten die Rahmenbedingungen und Regulatorik sowie praktische Umsetzungsbeispiele. Gemeinsam mit unseren Speakern möchten wir aktuelle Entwicklungen\, Herausforderungen sowie innovative Lösungsansätze diskutieren. \n  \n\n\n\n\n\n\n\n\n\n\n\nAgenda:\nStephan Mohr\, Forschungsstelle für Energiewirtschaft e. V (FfE): “Grüner Wasserstoff: Kostenbestandteile und vielversprechende Absatzmärkte”\nFernando Reichert\, NextHeat GmbH: “Wasserstoff in der Industrie: Attraktive Wirtschaftlichkeit der dezentralen Wasserstoffproduktion dank Strommarktintegration”\nDr. Eva Kränzlein\, Bayern Innovativ GmbH: “Kann Wasserstoff kosteneffizient in meinem Betrieb eingesetzt werden? Mögliche Förderungen zur Erstellung von Energiekonzepten”\nDiskussion und Q&A\n\nJetzt teilnehmen (Zoom)Für Veranstaltung anmelden\n\n                \n                        \n							"*" markiert Pflichtangaben \n                        \n                        EmailDieses Feld dient zur Validierung und sollte nicht verändert werden.Dieses Feld wird bei der Anzeige des Formulars ausgeblendetWorkflow-SpracheDieses Feld wird bei der Anzeige des Formulars ausgeblendetVA-FormatDieses Feld wird bei der Anzeige des Formulars ausgeblendetBrevo-ListeAnrede*HerrFraudiversIhr Name*\n                            \n                                                    \n                          TitelDr.Prof.Prof. Dr.\n                      \n                                                    Titel\n                                                  \n                            \n                                                    \n                                                    Vorname\n                                                \n                            \n                            \n                                                    \n                                                    Nachname\n                                                \n                            \n                        E-Mail*\n                            \n                        Organisation*Ihre Funktion / PositionAnschrift der Organisation    \n                    \n                        \n                                    \n                                    PLZ\n                                \n                                    \n                                    Ort\n                                 \n                                        AfghanistanAlbanienAlgerienAmerikanisch-SamoaAmerikanische JungferninselnAndorraAngolaAnguillaAntarktisAntigua und BarbudaArgentinienArmenienArubaAserbaidschanAustralienBahamasBahrainBangladeshBarbadosBelgienBelizeBeninBermudaBhutanBolivienBosnien und HerzegowinaBotswanaBouvetinselBrasilienBritische JungferninselnBritisches Territorium im Indischen OzeanBrunei DarussalamBulgarienBurkina FasoBurundiCaymen InselnChileChinaCookinselnCosta RicaCuraçaoCôte d'IvoireDemokratische Volksrepublik LaosDeutschlandDjiboutiDominicaDominikanische RepublikDänemarkEcuadorEl SalvadorEritreaEstlandEswatiniFalklandinselnFaroer-InselnFidschiFinnlandFrankreichFranzösisch-GuayanaFranzösisch-PolynesienFranzösische Süd- und AntarktisgebieteFutuna (Wallis und Futuna)GabonGambiaGeorgiaGhanaGibraltarGrenadaGriechenlandGroßbritannienGrönlandGuadeloupeGuamGuatemalaGuernseyGuineaGuinea-BissauGuyanaHaitiHeard und McDonaldinselnHeiliger StuhlHondurasHongkongIndienIndonesienIrakIranIrlandIslandIsle of ManIsraelItalienJamaikaJapanJemenJerseyJordanienKambodschaKamerunKanadaKap VerdeKaribische NiederlandeKasachstanKatarKeniaKirgistanKiribatiKokosinselnKolumbienKomorenKongoKongo\, Demokratische Republik desKorea. Demokratische VolksrepublikKroatienKubaKuwaitLesothoLettlandLibanonLiberiaLiechtensteinLitauenLuxemburgLybienMacaoMadagaskarMalawiMalaysiaMaledivenMaliMaltaMarokkoMarshall-InselnMartiniqueMauretanienMauritiusMayotteMexikoMikronesienMoldawienMonacoMongolaiMontenegroMontserratMosambikMyanmarNamibiaNauruNepalNeukaledonienNeuseelandNicaraguaNiederlandeNigerNigeriaNiueNordmazedonienNorfolkinselNorwegenNördliche MarianenOmanOsttimorPakistanPalauPalästina\, BundesstaatPanamaPapua Neu GuineaParaguayPeruPhilippinenPitcairninselnPolenPortugalPuerto RicoRuandaRumänienRussische FöderationRéunionSaint-BarthélemySaint-Pierre und MiquelonSalomonenSambiaSamoaSan MarinoSaudi-ArabienSchwedenSchweizSenegalSerbienSeychellenSierra LeoneSimbabweSingapurSint MaartenSlovenienSlowakeiSomaliaSpanienSri LankaSt. Helena\, Ascension und Tristan da CunhaSt. Kitts und NevisSt. LuciaSt. MartinSt. Vincent und die GrenadinenSudanSurinamSvalbard und Jan MayenSyrien\, Arabische RepublikSão Tomé und PríncipeSüdafrikaSüdgeorgien und die Südlichen SandwichinselnSüdkoreaSüdsudanTadschikistanTaiwanTansania\, Vereinte RepublikThailandTogoTokelauTongaTrinidad und TobagoTschadTschechienTunesienTurkmenistanTurks- und CaicosinselnTuvaluTürkeiU.S.A.US Minor Outlying IslandsUgandaUkraineUngarnUruguayUsbekistanVanuatuVenezuelaVereinigte Arabische EmirateVietnamWeihnachtsinselWeißrusslandWestsaharaZentralafrikanische RepublikZypernÄgyptenÄquatorial GuineaÄthopienÅlandinselnÖsterreich\n                                        Land\n                                    \n                    \n                Art der Organisation\n			\n					\n					Unternehmen\n			\n			\n					\n					Forschungseinrichtung\n			\n			\n					\n					Kommune/Behörde/Politik allg.\n			\n			\n					\n					Kommunale/öffentl. Einrichtung\n			\n			\n					\n					Privatperson\n			\n			\n					\n					Sonstiges\n			Teilnahmebedingungen & Datenschutzerklärung* Ich habe die folgenden Teilnahmebedingungen und die Datenschutzerklärung gelesen und akzeptiere diese: Die Teilnahme an der Veranstaltung ist kostenlos\, aber erst nach Bestätigung durch das Zentrum Wasserstoff.Bayern (H2.B) gültig. Mit dem Akzeptieren der Teilnahmebedingungen erklären Sie sich mit der Teilnahme an einem Online-Seminar über ZOOM einverstanden. Bilder\, die während der Veranstaltung entstehen\, dürfen für die Öffentlichkeitsarbeit und im Rahmen der Unternehmenskommunikation des H2.B und der ausgewiesenen Mitveranstalter verwendet werden.  Das H2.B wird niemals persönliche oder vertrauliche Informationen von Ihnen oder Ihren Präsentationen für Zwecke der Öffentlichkeitsarbeit verwenden. Indem Sie die Teilnahmebedingungen akzeptieren\, übermitteln Sie Ihre Daten an das H2.B\, das diese verwenden kann\, um mit Ihnen bezüglich dieser Veranstaltung zu kommunizieren und Sie über kommende Veranstaltungen\, die für Sie relevant sein könnten\, zu informieren. Sie können Ihre Zustimmung jederzeit widerrufen\, indem Sie eine E-Mail an veranstaltung@h2.bayern senden.Teilnahmebedingungen & Datenschutz* Ich habe die folgenden Teilnahmebedingungen und die Datenschutzerklärung gelesen und akzeptiere diese:Die Teilnahme an der Veranstaltung ist kostenlos\, aber erst nach Bestätigung durch das Zentrum Wasserstoff.Bayern (H2.B) gültig. Mit dem Akzeptieren der Teilnahmebedingungen erklären Sie sich mit der Teilnahme an der Veranstaltung einverstanden. Bilder\, die während der Veranstaltung entstehen\, dürfen für die Öffentlichkeitsarbeit und im Rahmen der Unternehmenskommunikation des H2.B und der ausgewiesenen Mitveranstalter verwendet werden.  Das H2.B wird niemals persönliche oder vertrauliche Informationen von Ihnen oder Ihren Präsentationen für Zwecke der Öffentlichkeitsarbeit verwenden. Indem Sie die Teilnahmebedingungen akzeptieren\, übermitteln Sie Ihre Daten an das H2.B\, das diese verwenden kann\, um mit Ihnen bezüglich dieser Veranstaltung zu kommunizieren und Sie über kommende Veranstaltungen\, die für Sie relevant sein könnten\, zu informieren. Sie können Ihre Zustimmung jederzeit widerrufen\, indem Sie eine E-Mail an veranstaltung@h2.bayern senden.Auflistung in Anwesenheitsliste* Ich bin damit einverstanden\, dass mein Name\, meine Organisation und meine Position in eine Anwesenheitsliste aufgenommen werden\, die an alle Teilnehmer ausgegeben wird.\n          \n            \n            \n            \n            \n            \n            \n            \n            \n            \n            \n            \n            \n            \n        \n                        \n                        \n		                \n		                \nweitere Veranstaltungen
URL:https://h2.bayern/event/h2-insights-9-h2-kosten-geschaeftsmodelle/
LOCATION:Zoom Webinar
CATEGORIES:H2.B-Veranstaltungen,H2.INSIGHTS,Webinar
ATTACH;FMTTYPE=image/jpeg:https://h2.bayern/wp-content/uploads/2025/03/H2.INSIGHTS9_V2_1200-x-627.jpg
END:VEVENT
END:VCALENDAR