BEGIN:VCALENDAR
VERSION:2.0
PRODID:-//Zentrum Wasserstoff.Bayern (H2.B) - ECPv6.15.20//NONSGML v1.0//EN
CALSCALE:GREGORIAN
METHOD:PUBLISH
X-ORIGINAL-URL:https://h2.bayern
X-WR-CALDESC:Veranstaltungen für Zentrum Wasserstoff.Bayern (H2.B)
REFRESH-INTERVAL;VALUE=DURATION:PT1H
X-Robots-Tag:noindex
X-PUBLISHED-TTL:PT1H
BEGIN:VTIMEZONE
TZID:Europe/Berlin
BEGIN:DAYLIGHT
TZOFFSETFROM:+0100
TZOFFSETTO:+0200
TZNAME:CEST
DTSTART:20240331T010000
END:DAYLIGHT
BEGIN:STANDARD
TZOFFSETFROM:+0200
TZOFFSETTO:+0100
TZNAME:CET
DTSTART:20241027T010000
END:STANDARD
BEGIN:DAYLIGHT
TZOFFSETFROM:+0100
TZOFFSETTO:+0200
TZNAME:CEST
DTSTART:20250330T010000
END:DAYLIGHT
BEGIN:STANDARD
TZOFFSETFROM:+0200
TZOFFSETTO:+0100
TZNAME:CET
DTSTART:20251026T010000
END:STANDARD
BEGIN:DAYLIGHT
TZOFFSETFROM:+0100
TZOFFSETTO:+0200
TZNAME:CEST
DTSTART:20260329T010000
END:DAYLIGHT
BEGIN:STANDARD
TZOFFSETFROM:+0200
TZOFFSETTO:+0100
TZNAME:CET
DTSTART:20261025T010000
END:STANDARD
END:VTIMEZONE
BEGIN:VEVENT
DTSTART;VALUE=DATE:20250128
DTEND;VALUE=DATE:20250131
DTSTAMP:20260421T103042
CREATED:20241111T102309Z
LAST-MODIFIED:20241111T103305Z
UID:10000058-1738022400-1738281599@h2.bayern
SUMMARY:Hyvolution 2025
DESCRIPTION:Vollversammlung des Wasserstoffbündnis Bayern 2026 – Bayerische H2-Regionen\n\n\n\n\nDas Zentrum Wasserstoff.Bayern (H2.B) ist von 28.-30.01. mit einem Stand auf dem Hydrogen Associations Pavilion auf der Hyvolution in Paris vor Ort. Wir freuen uns über Ihren Besuch.\n\n\n\n\n\nBild: ©Nicolas Rodet – Hyvolution Paris 2024 \nweitere Veranstaltungen
URL:https://h2.bayern/event/hyvolution-2025/
LOCATION:Paris
CATEGORIES:Messe
ATTACH;FMTTYPE=image/jpeg:https://h2.bayern/wp-content/uploads/2024/11/Hyvolution-1.jpg
END:VEVENT
END:VCALENDAR