BEGIN:VCALENDAR
VERSION:2.0
PRODID:-//Zentrum Wasserstoff.Bayern (H2.B) - ECPv6.15.20//NONSGML v1.0//EN
CALSCALE:GREGORIAN
METHOD:PUBLISH
X-ORIGINAL-URL:https://h2.bayern
X-WR-CALDESC:Veranstaltungen für Zentrum Wasserstoff.Bayern (H2.B)
REFRESH-INTERVAL;VALUE=DURATION:PT1H
X-Robots-Tag:noindex
X-PUBLISHED-TTL:PT1H
BEGIN:VTIMEZONE
TZID:Europe/Berlin
BEGIN:DAYLIGHT
TZOFFSETFROM:+0100
TZOFFSETTO:+0200
TZNAME:CEST
DTSTART:20220327T010000
END:DAYLIGHT
BEGIN:STANDARD
TZOFFSETFROM:+0200
TZOFFSETTO:+0100
TZNAME:CET
DTSTART:20221030T010000
END:STANDARD
BEGIN:DAYLIGHT
TZOFFSETFROM:+0100
TZOFFSETTO:+0200
TZNAME:CEST
DTSTART:20230326T010000
END:DAYLIGHT
BEGIN:STANDARD
TZOFFSETFROM:+0200
TZOFFSETTO:+0100
TZNAME:CET
DTSTART:20231029T010000
END:STANDARD
BEGIN:DAYLIGHT
TZOFFSETFROM:+0100
TZOFFSETTO:+0200
TZNAME:CEST
DTSTART:20240331T010000
END:DAYLIGHT
BEGIN:STANDARD
TZOFFSETFROM:+0200
TZOFFSETTO:+0100
TZNAME:CET
DTSTART:20241027T010000
END:STANDARD
END:VTIMEZONE
BEGIN:VEVENT
DTSTART;TZID=Europe/Berlin:20230926T120000
DTEND;TZID=Europe/Berlin:20230926T130000
DTSTAMP:20260422T153443
CREATED:20230914T141110Z
LAST-MODIFIED:20230927T124218Z
UID:10000029-1695729600-1695733200@h2.bayern
SUMMARY:Webinar: Bayerisches Förderprogramm zum Aufbau einer Elektrolyse-Infrastruktur (BayFELI)
DESCRIPTION:In dieser Online-Veranstaltung informiert das H2.B gemeinsam mit der Landesagentur für Energie und Klimaschutz (LENK) und dem Projektträger des Programmes\, der VDI Technologiezentrum GmbH\, über das Bayerische Förderprogramm zum Aufbau einer Elektrolyse-Infrastruktur (BayFELI). \nZur Förderung der heimischen Wasserstoffproduktion stellt der Freistaat Bayern insgesamt 150 Millionen Euro zur Verfügung. Im Rahmen des Förderprogramms BayFELI werden Anschaffungskosten von Elektrolyseuren und ihren unmittelbar verbundene Anlagenbestandteilen mit einer Förderquote von 45 Prozent bezuschusst. Voraussetzung ist eine elektrische Mindestleistung der Anlage von 1 MW. Der erste Förderaufruf läuft vom 4. September bis 16. Oktober 2023 und hat ein Fördervolumen von insgesamt 45 Millionen. \nZiel der Veranstaltung ist die Darstellung der Konditionen des Förderprogramms sowie die Veranschaulichung des Antragsstellungsprozesses und des Verfahrensablaufs. Zudem bietet die Veranstaltung die Möglichkeit\, Herrn Dr. Fröhlingsdorf vom Projektträger Fragen zum laufenden Fördercall zu stellen. \n\n\n\n\n\n\n\nAgenda:\n\nBegrüßung (H2.B und H2-Multiplikatoren der LENK)\nVorstellung des Förderprogrammes BayFELI und des ersten Förderaufrufes (Herr Dr. Fröhlingsdorf\, VDI TZ GmbH)\nQ&A\nZusammenfassung der wichtigsten Fristen und Kontaktdaten
URL:https://h2.bayern/event/webinar-bayerisches-foerderprogramm-zum-aufbau-einer-elektrolyse-infrastruktur-bayfeli/
LOCATION:Zoom Webinar
CATEGORIES:H2.B-Veranstaltungen,Webinar
ATTACH;FMTTYPE=image/png:https://h2.bayern/wp-content/uploads/2023/09/BayFELI-Webinar_V3.png
END:VEVENT
END:VCALENDAR