BEGIN:VCALENDAR
VERSION:2.0
PRODID:-//Zentrum Wasserstoff.Bayern (H2.B) - ECPv6.15.20//NONSGML v1.0//EN
CALSCALE:GREGORIAN
METHOD:PUBLISH
X-ORIGINAL-URL:https://h2.bayern
X-WR-CALDESC:Veranstaltungen für Zentrum Wasserstoff.Bayern (H2.B)
REFRESH-INTERVAL;VALUE=DURATION:PT1H
X-Robots-Tag:noindex
X-PUBLISHED-TTL:PT1H
BEGIN:VTIMEZONE
TZID:Europe/Berlin
BEGIN:DAYLIGHT
TZOFFSETFROM:+0100
TZOFFSETTO:+0200
TZNAME:CEST
DTSTART:20250330T010000
END:DAYLIGHT
BEGIN:STANDARD
TZOFFSETFROM:+0200
TZOFFSETTO:+0100
TZNAME:CET
DTSTART:20251026T010000
END:STANDARD
BEGIN:DAYLIGHT
TZOFFSETFROM:+0100
TZOFFSETTO:+0200
TZNAME:CEST
DTSTART:20260329T010000
END:DAYLIGHT
BEGIN:STANDARD
TZOFFSETFROM:+0200
TZOFFSETTO:+0100
TZNAME:CET
DTSTART:20261025T010000
END:STANDARD
BEGIN:DAYLIGHT
TZOFFSETFROM:+0100
TZOFFSETTO:+0200
TZNAME:CEST
DTSTART:20270328T010000
END:DAYLIGHT
BEGIN:STANDARD
TZOFFSETFROM:+0200
TZOFFSETTO:+0100
TZNAME:CET
DTSTART:20271031T010000
END:STANDARD
END:VTIMEZONE
BEGIN:VEVENT
DTSTART;TZID=Europe/Berlin:20260428T110000
DTEND;TZID=Europe/Berlin:20260428T160000
DTSTAMP:20260422T012257
CREATED:20260310T094112Z
LAST-MODIFIED:20260421T123842Z
UID:10000099-1777374000-1777392000@h2.bayern
SUMMARY:Anwendertag Wasserstoff-Nutzfahrzeuge – Testfahrten\, Fördermöglichkeiten und Praxis-Informationen
DESCRIPTION:Wasserstoff spielt eine wichtige Rolle für den klimafreundlichen Schwerlastverkehr in Bayern. Vor diesem Hintergrund läuft derzeit ein Förderprogramm des Bundesministeriums für Verkehr (sogenannte Paketförderung). In Bayern wird Anfang Juni ein Förderaufruf für Wasserstoff-Nutzfahrzeuge starten. \nIm Hinblick auf die derzeit laufende sowie kommende Förderprogramme für Wasserstoff-Nutzfahrzeuge lädt das Zentrum Wasserstoff.Bayern (H2.B) gemeinsam mit dem LBT e.V. zum „Anwendertag H2-Nutzfahrzeuge – Testfahrten\, Fördermöglichkeiten und Praxisinformationen“  in das ADAC Testzentrum Mobilität in Penzing ein. \nDie Veranstaltung unter der Schirmherrschaft des Bayerischen Staatsministeriums für Wirtschaft\, Landesentwicklung und Energie bietet künftigen Anwendern die Gelegenheit\, sich frühzeitig praxisnah zu informieren. Vor Ort haben Sie die Möglichkeit\, Wasserstoff-LKW verschiedener Hersteller auf der Teststrecke selbst zu erproben und mit Fahrzeugherstellern sowie Betreibern von Wasserstofftankstellen sowie Ökosystem-Entwicklern ins Gespräch zu kommen. Vernetzen Sie sich außerdem mit Vortragenden zu Fördermöglichkeiten (NOW GmbH\, Projektträger Bayern bei der Bayern Innovativ GmbH). \nDarüber hinaus erhalten Sie Informationen zu aktuellen Fördermöglichkeiten für Wasserstoff-Nutzfahrzeuge auf Bundes- und Landesebene. Nutzen Sie die Gelegenheit\, sich aus erster Hand zu informieren\, Fragen zu stellen und Wasserstoffmobilität vor Ort zu erleben. Diese Veranstaltung richtet sich primär an Nutzfahrzeug-Flottenbetreiber aus den Bereichen Logistik\, Spedition\, Handel und Entsorgung\, die Ihre Flotten klimafreundlicher gestalten möchten und die Nutzung von Wasserstofffahrzeugen für ihren Betrieb in Betracht ziehen. \nÜbersicht der Aussteller/Fahrzeuge\nFahrzeug-Anbieter: \n\nDaimler Truck AG\nHyundai Hydrogen Mobility Germany GmbH\nIVECO Deutschland AG / Robert Bosch GmbH\nKEYOU GmbH\nMAN Truck & Bus SE\nQuantron / Andreas Haller Holding GmbH\nREFIRE Europe GmbH\nPaul Nutzfahrzeuge GmbH\n\nWasserstofftankstellen-Betreiber: \n\nAirport Energie Management GmbH\nH2 MOBILITY GmbH\nTEAL Mobility Deutschland GmbH\nTyczka Hydrogen GmbH\n\nÖkosystem-Entwickler: \n\nLudwig-Bölkow-Systemtechnik GmbH\n\nVorläufige Agenda\n\n\n\n\n\n11:00\nEinlass\n\n\n11:30\nBegrüßung\n\n\n\nImpulse zu Fördermöglichkeiten \n\nAlexander Gehling\, NOW GmbH\nDr. Sebastian Müllner\, Bayern Innovativ GmbH\n\n\n\n\n\nEinführung und Hinweise zu Testfahrten\n\n\nca. 12:30\nTestfahrten – Teil 1\n\n\nca. 13:30\nNetworkingpause mit kleinem Imbiss und Ausstellungsbesichtigung\n\n\n14:15\nGrußwort von Tobias Gotthardt\, Staatssekretär im Bayerischen Staatsministerium für Wirtschaft\, Landesentwicklung und Energie\n\n\n14:30\nTestfahrten – Teil 2\n\n\n16:30\nEnde der Veranstaltung\n\n\n\n\nBitte beachten Sie\, dass die Veranstaltung vollständig ausgebucht und die Anmeldung geschlossen ist.  \nWichtige Hinweise: \n\nDiese Veranstaltung richtet sich primär an Unternehmen aus den Bereichen Logistik\, Spedition\, Handel und Entsorgung\, die ihre Flotten klimafreundlicher gestalten möchten und die Nutzung von Wasserstofffahrzeugen für ihren Betrieb in Betracht ziehen. Bitte beachten Sie\, dass wir ein zweistufiges Anmeldeverfahren nutzen und Sie zunächst eine Eingangsbestätigung Ihrer Anmeldung erhalten. Diese stellt noch keine Anmeldebestätigung dar. Die Teilnahme an der Veranstaltung ist kostenlos\, aber erst nach Erhalt der Anmeldebestätigung möglich.\nAufgrund begrenzter Kapazitäten ist Teilnahme von zunächst einer Person\, ggf. maximal zwei Personen pro Unternehmen möglich. Wir bitten außerdem um zügige Anmeldung.\nBitte beachten Sie\, dass zeitgleich weitere Fahrzeuge andere Strecken des ADAC Testzentrums benutzen werden. Das Fotografieren von solchen Fahrzeugen\, die nicht Teil der Anwendertags sind\, ist nicht erlaubt. \nFür die aktive Teilnahme an LKW-Testfahrten als Fahrerin/Fahrer ist die Vorlage einer entsprechenden Fahrerlaubnis sowie die Unterzeichnung einer Haftungsausschlusserklärung erforderlich.\n\nweitere Veranstaltungen
URL:https://h2.bayern/event/anwendertag-wasserstoff-nutzfahrzeuge-testfahrten-foerdermoeglichkeiten-und-praxis-informationen/
LOCATION:ADAC Testzentrum Mobilität\, Kauferinger Str.\, Penzing\, 86929
CATEGORIES:H2.B-Veranstaltungen
ATTACH;FMTTYPE=image/png:https://h2.bayern/wp-content/uploads/2026/03/2026-03-17-Grafik_1200-x-627.png
END:VEVENT
BEGIN:VEVENT
DTSTART;VALUE=DATE:20260504
DTEND;VALUE=DATE:20260508
DTSTAMP:20260422T012258
CREATED:20260209T141943Z
LAST-MODIFIED:20260311T111646Z
UID:10000097-1777852800-1778198399@h2.bayern
SUMMARY:IFAT Munich: Spotlight Area Hydrogen
DESCRIPTION:Auch in diesem Jahr ist das H2.B wieder Partner der Spotlight Area Hydrogen auf der IFAT Munich 2026. Auf der 300 qm Sonderfläche in Halle A4 können Besucherinnen und Besucher innovative Lösungen für verschiedene Einsatzmöglichkeiten von Wasserstoff in der Kreislaufwirtschaft entdecken. \n\n\n\n\n\nNeben zahlreichen Ausstellern aus der Wasserstoffbranche erwarten Sie auf der Hydrogen Stage spannende Impulse\, Panel Talks und inspirierende Vorträge. Die Bühne bringt Ideen zum Leben und die aktuellen Fragen der Industrie und der Kommunen werden beantwortet. \nSo werden Sie Teil der Spotlight Area Wasserstoff: Komplettpaket der Messe München \n\n8 m² Ausstellungsfläche auf der Spotlight Area Wasserstoff\nStandbau & Design (passendes Mobiliar für den Stand\, d.h. Counter\, Sitzgelegenheit\, sowie 2 Grafikflächen\, Beleuchtung)\nStrom\, WLAN Access Point\, Standreinigung\, Standbewachung\, Entsorgungspauschale\nGrundeintrag in die IFAT Munich Messeverzeichnisse (Basiseintrag Besuchsplaner\, mobile und Onlinedatenbank PLUS AUMA-Beitrag)\n3 kostenfreie Ausstellerausweise\nIhre Teilnahmekosten für das Komplettpaket: 4.900 EUR zzgl. MwSt.\n\nIhre Ansprechpersonen \nBei Interesse oder Fragen melden Sie sich gerne bei den Kolleginnen der Messe München: \n\nPetra Tutsch\, Petra.Tutsch@Messe-Muenchen.de\, +49 89 949-20293\nSina Übelacker\, Sina.Uebelacker@Messe-Muenchen.de\, +49 89 949-20281\n\n\n\n\n\n\n\nWeitere Informationen (externer Link)weitere Veranstaltungen
URL:https://h2.bayern/event/ifat-munich-spotlight-area-hydrogen/
LOCATION:Messe München
CATEGORIES:Fremdveranstaltungen,Messe
ATTACH;FMTTYPE=image/png:https://h2.bayern/wp-content/uploads/2026/02/2026-02-09-Grafik-Website_1200-x-627.png
END:VEVENT
BEGIN:VEVENT
DTSTART;VALUE=DATE:20260519
DTEND;VALUE=DATE:20260523
DTSTAMP:20260422T012258
CREATED:20260126T112642Z
LAST-MODIFIED:20260324T132004Z
UID:10000095-1779148800-1779494399@h2.bayern
SUMMARY:Unternehmerreise in die Niederlande zum World Hydrogen Summit & Exhibition 2026
DESCRIPTION:Im Rahmen des World Hydrogen Summit & Exhibition 2026 in Rotterdam bieten wir gemeinsam mit Bayern International eine Reise in die Niederlande an. Reisen Sie von 19.-21.05 (bzw. optional bis 22.05.) mit und knüpfen Sie vor Ort wichtige Kontakte zu potentiellen Geschäftspartnern. \nDie Reise richtet sich an Vertreterinnen und Vertreter bayerischer Unternehmen und Forschungseinrichtungen. Die Teilnehmendenzahl ist begrenzt. Die Anreise und Übernachtung wird von den Teilnehmenden selbst organisiert und getragen.  \n\n\nProgramm:Programmbestandteile werden zum Beispiel Vernetzungsveranstaltungen mit verschiedenen Akteuren der niederländischen Wasserstoffbranche sowie internationalen Akteuren der Branche\, Guided Tours über die Messe und optionale Unternehmensbesuche (am 22.05.) sein. Natürlich bleibt auch noch genug Zeit für individuelle Termine auf der Messe. Das detaillierte Programm folgt. \nJetzt anmelden (Bayern International)weitere Veranstaltungen
URL:https://h2.bayern/event/unternehmerreise-in-die-niederlande-zum-world-hydrogen-summit-exhibition-2026/
LOCATION:Rotterdam\, Niederlande
CATEGORIES:Delegationreise,H2.B-Veranstaltungen,Messe
ATTACH;FMTTYPE=image/png:https://h2.bayern/wp-content/uploads/2026/01/2026-01-26-Grafik-WHS-26_1200-x-627.png
END:VEVENT
BEGIN:VEVENT
DTSTART;VALUE=DATE:20261020
DTEND;VALUE=DATE:20261023
DTSTAMP:20260422T012258
CREATED:20251105T085644Z
LAST-MODIFIED:20260209T132526Z
UID:10000091-1792454400-1792713599@h2.bayern
SUMMARY:Hydrogen Technology World Expo 2026
DESCRIPTION:Erstmalig bietet das H2.B in Kooperation mit der Bayern Innovativ GmbH einen bayerischen Gemeinschaftsstand auf der Hydrogen Technology World Expo an. \nDie Hydrogen Technology World Expo ist die weltweit größte Zuliefermesse für Wasserstofftechnologien\, Materialien\, Komponenten und technische Lösungen. \nNutzen Sie die Gelegenheit und bewerben Sie sich jetzt für eine Teilnahme am Gemeinschaftsstand. Die Bewerbungsfrist endet am 17. April 2026!  \nInformationen zu den Standpaketen entnehmen Sie den Bewerbungsunterlagen. \nBei Fragen wenden Sie sich gerne an die Kolleginnen und Kollegen von der Bayern Innovativ GmbH: messe@bayern-innovativ.de \n\n\n \n\n\nBewerbungsunterlagen (PDF)Weitere Informationen (extern)weitere Veranstaltungen
URL:https://h2.bayern/event/hydrogen-technology-world-expo-2026/
LOCATION:Hamburg Messe\, Messeplatz 1\, Hamburg\, 20357\, Germany
CATEGORIES:Messe
ATTACH;FMTTYPE=image/png:https://h2.bayern/wp-content/uploads/2025/11/VA-Grafik-HTE.png
END:VEVENT
END:VCALENDAR